BEGIN:VCALENDAR
VERSION:2.0
PRODID:-//hacksw/handcal//NONSGML v1.0//EN
CALSCALE:GREGORIAN

BEGIN:VEVENT
DTSTAMP:20260420T074244Z
DTSTART:20260430T160000Z
DTEND:20260430T170000Z
UID:69e5d8f4c49a4
SUMMARY:Liebieghaus trifft Frankfurt - Tiere zwischen Naturvorbild\, Mythos und Märchen
DESCRIPTION:Zur Ausstellung „[Tiere sind auch nur Menschen. Skulpturen von August Gaul](node/524)“    
  
Ausgehend von Werken der Liebieghaus Skulpturensammlung führt Sie diese Tour zu Orten der Stadtgeschichte und zu Skulpturen im öffentlichen Raum.   
  
Zwischen Naturbeobachtung\, Mythos und Märchen begegnen uns Tierdarstellungen in den unterschiedlichsten Rollen. Von der Ausstellung [Tiere sind auch nur Menschen. Skulpturen von August Gaul](node/524) über die Ariadne auf dem Panther bis hin zum märchenhaften Rotkäppchen-Brunnen in der Gartenstraße untersuchen wir\, wie sich unsere Wahrnehmung von Tieren wandelt – und was diese Darstellungen über unser Verhältnis zur Tierwelt erzählen. 
    

Kosten: 10 Euro\, ermäßigt 8 Euro (inkl. Eintritt)   
Treffpunkt: Foyer        
Tickets: Erhältlich in unserem [Online-Shop](https://liebieghaus.ticketfritz.de/Event/Kalender/13095/33499?typ=Vorlage)  
LOCATION:Schaumainkai 71
60596 Frankfurt am Main
URL;VALUE=URI:https://liebieghaus.de/de/angebote/liebieghaus-trifft-frankfurt?event=1731&delta=0
X-APPLE-STRUCTURED-LOCATION;VALUE=URI;X-ADDRESS=Schaumainkai 71\n60596 Frankfurt am Main;X-APPLE-RADIUS=49;X-TITLE=Schaumainkai 71:geo:50.1020675,8.6711337
END:VEVENT

END:VCALENDAR